BEGIN:VCALENDAR
VERSION:2.0
PRODID:-//Shift_ed - ECPv6.15.20//NONSGML v1.0//EN
CALSCALE:GREGORIAN
METHOD:PUBLISH
X-ORIGINAL-URL:https://shift-ed.org
X-WR-CALDESC:Events for Shift_ed
REFRESH-INTERVAL;VALUE=DURATION:PT1H
X-Robots-Tag:noindex
X-PUBLISHED-TTL:PT1H
BEGIN:VTIMEZONE
TZID:America/New_York
BEGIN:DAYLIGHT
TZOFFSETFROM:-0500
TZOFFSETTO:-0400
TZNAME:EDT
DTSTART:20250309T070000
END:DAYLIGHT
BEGIN:STANDARD
TZOFFSETFROM:-0400
TZOFFSETTO:-0500
TZNAME:EST
DTSTART:20251102T060000
END:STANDARD
BEGIN:DAYLIGHT
TZOFFSETFROM:-0500
TZOFFSETTO:-0400
TZNAME:EDT
DTSTART:20260308T070000
END:DAYLIGHT
BEGIN:STANDARD
TZOFFSETFROM:-0400
TZOFFSETTO:-0500
TZNAME:EST
DTSTART:20261101T060000
END:STANDARD
BEGIN:DAYLIGHT
TZOFFSETFROM:-0500
TZOFFSETTO:-0400
TZNAME:EDT
DTSTART:20270314T070000
END:DAYLIGHT
BEGIN:STANDARD
TZOFFSETFROM:-0400
TZOFFSETTO:-0500
TZNAME:EST
DTSTART:20271107T060000
END:STANDARD
END:VTIMEZONE
BEGIN:VEVENT
DTSTART;TZID=America/New_York:20260330T083000
DTEND;TZID=America/New_York:20260330T093000
DTSTAMP:20260421T074505
CREATED:20251116T191225Z
LAST-MODIFIED:20260309T151535Z
UID:10000026-1774859400-1774863000@shift-ed.org
SUMMARY:Brewing Connection\, High Point
DESCRIPTION:Join us for good coffee and stimulating conversation!  In March\, learn more about the Guilford Guarantee initiative – a bold partnership that is helping Guilford County Schools students chart clear pathways to bright futures. We will meet at the amphitheater at Congdon Yards. This event is free and open to all\, but registration is required. Register here:  https://bit.ly/4tnX6H8 \n  \n 
URL:https://shift-ed.org/event/coffee-conversation-high-point/
LOCATION:Congdon Yards\, 410 W. English Street\, High Point\, NC
CATEGORIES:Careers,General
ATTACH;FMTTYPE=image/jpeg:https://shift-ed.org/wp-content/uploads/2025/11/BREWING-CONNECTIONS.jpg
END:VEVENT
BEGIN:VEVENT
DTSTART;TZID=America/New_York:20260323T083000
DTEND;TZID=America/New_York:20260323T093000
DTSTAMP:20260421T074505
CREATED:20251116T190843Z
LAST-MODIFIED:20260309T151705Z
UID:10000025-1774254600-1774258200@shift-ed.org
SUMMARY:Brewing Connection\, GSO
DESCRIPTION:Join us for good coffee and stimulating conversation!  In March\, learn more about the Guilford Guarantee initiative – a bold partnership that is helping Guilford County Schools students chart clear pathways to bright futures. We’ll meet at the Pavilion Room at the O.Henry Hotel. This event is free and open to all\, but registration is required. Register here: https://bit.ly/4rEbitW
URL:https://shift-ed.org/event/coffee-conversation-gso/
LOCATION:O’Henry Hotel\, 624 Green Valley Road\, Greensboro\, NC\, 27408\, United States
CATEGORIES:Careers,General
ATTACH;FMTTYPE=image/jpeg:https://shift-ed.org/wp-content/uploads/2025/11/BREWING-CONNECTIONS.jpg
END:VEVENT
END:VCALENDAR