BEGIN:VCALENDAR
VERSION:2.0
PRODID:-//Shift_ed - ECPv6.15.20//NONSGML v1.0//EN
CALSCALE:GREGORIAN
METHOD:PUBLISH
X-WR-CALNAME:Shift_ed
X-ORIGINAL-URL:https://shift-ed.org
X-WR-CALDESC:Events for Shift_ed
REFRESH-INTERVAL;VALUE=DURATION:PT1H
X-Robots-Tag:noindex
X-PUBLISHED-TTL:PT1H
BEGIN:VTIMEZONE
TZID:America/New_York
BEGIN:DAYLIGHT
TZOFFSETFROM:-0500
TZOFFSETTO:-0400
TZNAME:EDT
DTSTART:20250309T070000
END:DAYLIGHT
BEGIN:STANDARD
TZOFFSETFROM:-0400
TZOFFSETTO:-0500
TZNAME:EST
DTSTART:20251102T060000
END:STANDARD
BEGIN:DAYLIGHT
TZOFFSETFROM:-0500
TZOFFSETTO:-0400
TZNAME:EDT
DTSTART:20260308T070000
END:DAYLIGHT
BEGIN:STANDARD
TZOFFSETFROM:-0400
TZOFFSETTO:-0500
TZNAME:EST
DTSTART:20261101T060000
END:STANDARD
BEGIN:DAYLIGHT
TZOFFSETFROM:-0500
TZOFFSETTO:-0400
TZNAME:EDT
DTSTART:20270314T070000
END:DAYLIGHT
BEGIN:STANDARD
TZOFFSETFROM:-0400
TZOFFSETTO:-0500
TZNAME:EST
DTSTART:20271107T060000
END:STANDARD
END:VTIMEZONE
BEGIN:VEVENT
DTSTART;TZID=America/New_York:20260228T110000
DTEND;TZID=America/New_York:20260228T150000
DTSTAMP:20260421T120901
CREATED:20260203T211814Z
LAST-MODIFIED:20260203T211850Z
UID:10000030-1772276400-1772290800@shift-ed.org
SUMMARY:Discover Kindergarten! Resource Fair
DESCRIPTION:Join us at the Miriam P Brenner Children’s Museum to meet GCS kindergarten teachers\, access GCS resources for registration and have lots of fun!  This event is free and open to the public.
URL:https://shift-ed.org/event/discover-kindergarten-resource-fair/
LOCATION:Miriam P. Brenner Children’s Museum\, 220 N. Church St.\, Greensboro\, NC\, 27401\, United States
CATEGORIES:Kindergarten Resource Fairs
ATTACH;FMTTYPE=application/pdf:https://shift-ed.org/wp-content/uploads/2026/02/Discover-Kindergarten-GSO-flyer.pdf
END:VEVENT
END:VCALENDAR